BEGIN:VCALENDAR
VERSION:2.0
PRODID:-//ChamberMaster//Event Calendar 2.0//EN
METHOD:PUBLISH
X-PUBLISHED-TTL:P3D
REFRESH-INTERVAL:P3D
CALSCALE:GREGORIAN
BEGIN:VEVENT
DTSTART:20180210T170000Z
DTEND:20180210T230000Z
X-MICROSOFT-CDO-ALLDAYEVENT:FALSE
SUMMARY:39th Annual Take a Kid Fishing Program
DESCRIPTION:39TH ANNUAL\n\nTAKE A KID FISHING PROGRAM\n\n@ LA PAZ\n\nCOUNTY PARK
X-ALT-DESC;FMTTYPE=text/html:<div style="text-align: center\;"><span style="font-size:20px\;"><span style="color:#008080\;">39TH ANNUAL<br />\nTAKE A KID FISHING PROGRAM<br />\n@ LA PAZ<br />\nCOUNTY PARK</span></span></div>\n
LOCATION:LA PAZ COUNTY PARK PARKER\, AZ
UID:e.2234.1861
SEQUENCE:3
DTSTAMP:20260425T175929Z
URL:http://business.parkeraz.org/events/details/39th-annual-take-a-kid-fishing-program-1861
END:VEVENT

END:VCALENDAR
