BEGIN:VCALENDAR
VERSION:2.0
PRODID:-//ChamberMaster//Event Calendar 2.0//EN
METHOD:PUBLISH
X-PUBLISHED-TTL:P3D
REFRESH-INTERVAL:P3D
CALSCALE:GREGORIAN
BEGIN:VEVENT
DTSTART:20180120T160000Z
DTEND:20180120T210000Z
X-MICROSOFT-CDO-ALLDAYEVENT:FALSE
SUMMARY:AARP Driver Safety Class
DESCRIPTION:AARP \n\nDRIVER SAFETY CLASS\n\nNATIONAL DMV APPROVED \n\nCLASS FOR 55 & OLDER\n\nQUALIFIES DRIVER \n\nFOR\n\nMULTIPLE YEAR \n\nDISCOUNT ON\n\nAUTO INSURANCE
X-ALT-DESC;FMTTYPE=text/html:<div style="text-align: center\;"><span style="font-size:20px\;">AARP&nbsp\;<br />\nDRIVER SAFETY CLASS<br />\nNATIONAL DMV APPROVED&nbsp\;<br />\nCLASS FOR 55 &amp\; OLDER<br />\nQUALIFIES DRIVER&nbsp\;<br />\nFOR<br />\nMULTIPLE YEAR&nbsp\;<br />\nDISCOUNT ON<br />\nAUTO INSURANCE</span></div>\n
LOCATION:PARKER SENIOR CENTER 1115 12TH STREET PARKER\, AZ
UID:e.2234.1900
SEQUENCE:3
DTSTAMP:20260425T231948Z
URL:http://business.parkeraz.org/events/details/aarp-driver-safety-class-1900
END:VEVENT

END:VCALENDAR
