BEGIN:VCALENDAR
VERSION:2.0
PRODID:-//ChamberMaster//Event Calendar 2.0//EN
METHOD:PUBLISH
X-PUBLISHED-TTL:P3D
REFRESH-INTERVAL:P3D
CALSCALE:GREGORIAN
BEGIN:VEVENT
DTSTART:20180718T200000Z
DTEND:20180719T000000Z
X-MICROSOFT-CDO-ALLDAYEVENT:FALSE
SUMMARY:Apprenticeship Recruitment Event
DESCRIPTION:ARIZONA @ WORK\n\nAPPRENTICESHIP\n\nRECRUITMENT EVENT W/ THE\n\nMETROPOLITAN \n\nWATER DISTRICT
X-ALT-DESC;FMTTYPE=text/html:<div style="text-align: center\;"><span style="font-size:18px\;">ARIZONA @ WORK</span><br />\n<span style="font-size:18px\;">APPRENTICESHIP<br />\nRECRUITMENT EVENT W/ THE<br />\nMETROPOLITAN&nbsp\;<br />\nWATER DISTRICT</span><br />\n&nbsp\;</div>\n
LOCATION:ARIZONA @ WORK OFFICE 1032 HOPI AVE PARKER\, AZ
UID:e.2234.3011
SEQUENCE:3
DTSTAMP:20260423T092643Z
URL:http://business.parkeraz.org/events/details/apprenticeship-recruitment-event-3011
END:VEVENT

END:VCALENDAR
