BEGIN:VCALENDAR
VERSION:2.0
PRODID:-//ChamberMaster//Event Calendar 2.0//EN
METHOD:PUBLISH
X-PUBLISHED-TTL:P3D
REFRESH-INTERVAL:P3D
CALSCALE:GREGORIAN
BEGIN:VEVENT
DTSTART;VALUE=DATE:20250920
DTEND;VALUE=DATE:20250921
TRANSP:TRANSPARENT
X-MICROSOFT-CDO-ALLDAYEVENT:TRUE
SUMMARY:Az Jet Boat Party
DESCRIPTION:Road Runner Presents AZ Jet Boat Party!\n\nPromos\, Giveaways\, Specials\, T-shirts! \n\nDj Neon at the pool: 11am-4pm\n\nLive Music: 6pm-9pm\n\nRiver Luxe Lounge: 9pm-2am\n\nCall 928-662-6166 for any questions.
X-ALT-DESC;FMTTYPE=text/html:Road Runner Presents AZ Jet Boat Party!<br />\nPromos\, Giveaways\, Specials\, T-shirts!&nbsp\;<br />\nDj Neon at the pool: 11am-4pm<br />\nLive Music: 6pm-9pm<br />\nRiver Luxe Lounge: 9pm-2am<br />\nCall 928-662-6166 for any questions.&nbsp\;
LOCATION:7000 Riverside DR. Parker\, Az 85344
UID:e.2234.12331
SEQUENCE:3
DTSTAMP:20260421T083039Z
URL:http://business.parkeraz.org/events/details/az-jet-boat-party-12331
END:VEVENT

END:VCALENDAR
