BEGIN:VCALENDAR
VERSION:2.0
PRODID:-//ChamberMaster//Event Calendar 2.0//EN
METHOD:PUBLISH
X-PUBLISHED-TTL:P3D
REFRESH-INTERVAL:P3D
CALSCALE:GREGORIAN
BEGIN:VEVENT
DTSTART:20181028T160000Z
DTEND:20181028T180000Z
X-MICROSOFT-CDO-ALLDAYEVENT:FALSE
SUMMARY:BPO Does Sunday Breakfast
DESCRIPTION:BPO DOES\n\nSUNDAY BREAKFAST
X-ALT-DESC;FMTTYPE=text/html:<div style="text-align: center\;">BPO DOES<br />\nSUNDAY BREAKFAST<br />\n&nbsp\;</div>\n
LOCATION:PARKER ELKS LODGE 714 LAGUNA PARKER\, AZ
UID:e.2234.3118
SEQUENCE:3
DTSTAMP:20260423T041313Z
URL:http://business.parkeraz.org/events/details/bpo-does-sunday-breakfast-3118
END:VEVENT

END:VCALENDAR
