BEGIN:VCALENDAR
VERSION:2.0
PRODID:-//ChamberMaster//Event Calendar 2.0//EN
METHOD:PUBLISH
X-PUBLISHED-TTL:P3D
REFRESH-INTERVAL:P3D
CALSCALE:GREGORIAN
BEGIN:VEVENT
DTSTART:20250920T220000Z
DTEND:20250921T020000Z
X-MICROSOFT-CDO-ALLDAYEVENT:FALSE
SUMMARY:Christmas in September
DESCRIPTION:Proceeds will go towards our toys for tots giveway in December
X-ALT-DESC;FMTTYPE=text/html:Proceeds will go towards our toys for tots giveway in December&nbsp\;
LOCATION:716 s Laguna Ave
UID:e.2234.12338
SEQUENCE:3
DTSTAMP:20260421T082842Z
URL:http://business.parkeraz.org/events/details/christmas-in-september-12338
END:VEVENT

END:VCALENDAR
