BEGIN:VCALENDAR
VERSION:2.0
PRODID:-//ChamberMaster//Event Calendar 2.0//EN
METHOD:PUBLISH
X-PUBLISHED-TTL:P3D
REFRESH-INTERVAL:P3D
CALSCALE:GREGORIAN
BEGIN:VEVENT
DTSTART:20260429T190000Z
DTEND:20260429T200000Z
X-MICROSOFT-CDO-ALLDAYEVENT:FALSE
SUMMARY:CRIT DHS Food Demo Class
DESCRIPTION:Join DHS Food Distribution Program Food Demo Class Sheet Pan Sausage & Veggie Bake
X-ALT-DESC;FMTTYPE=text/html:Join DHS Food Distribution Program Food Demo Class Sheet Pan Sausage &amp\; Veggie Bake&nbsp\;
LOCATION:13951 2nd Mohave Ave
UID:e.2234.13510
SEQUENCE:3
DTSTAMP:20260423T090324Z
URL:http://business.parkeraz.org/events/details/crit-dhs-food-demo-class-13510
END:VEVENT

END:VCALENDAR
