BEGIN:VCALENDAR
VERSION:2.0
PRODID:-//ChamberMaster//Event Calendar 2.0//EN
METHOD:PUBLISH
X-PUBLISHED-TTL:P3D
REFRESH-INTERVAL:P3D
CALSCALE:GREGORIAN
BEGIN:VEVENT
DTSTART:20190123T190000Z
DTEND:20190123T230000Z
X-MICROSOFT-CDO-ALLDAYEVENT:FALSE
SUMMARY:CRIT Hiring Event
DESCRIPTION:COLORADO RIVER\n\nINDIAN TRIBES\n\nHIRING EVENT\n\nAT \n\nBLUEWATER CASINO
X-ALT-DESC;FMTTYPE=text/html:<div style="text-align: center\;">COLORADO RIVER<br />\nINDIAN TRIBES<br />\nHIRING EVENT<br />\nAT&nbsp\;<br />\nBLUEWATER CASINO</div>\n
LOCATION:BLUEWATER RESORT AND CASINO 11300 RESORT DRIVE PARKER\, AZ
UID:e.2234.3195
SEQUENCE:3
DTSTAMP:20260423T025722Z
URL:http://business.parkeraz.org/events/details/crit-hiring-event-3195
END:VEVENT

END:VCALENDAR
