BEGIN:VCALENDAR
VERSION:2.0
PRODID:-//ChamberMaster//Event Calendar 2.0//EN
METHOD:PUBLISH
X-PUBLISHED-TTL:P3D
REFRESH-INTERVAL:P3D
CALSCALE:GREGORIAN
BEGIN:VEVENT
DTSTART:20180701T030000Z
DTEND:20180701T050000Z
X-MICROSOFT-CDO-ALLDAYEVENT:FALSE
SUMMARY:Fireworks at Roadrunner
DESCRIPTION:FIREWORKS\n\nDISPLAY \n\nAT \n\nROADRUNNER \n\nFLOATING DOCK BAR
X-ALT-DESC;FMTTYPE=text/html:<div style="text-align: center\;"><span style="font-size:20px\;">FIREWORKS<br />\nDISPLAY&nbsp\;<br />\nAT&nbsp\;<br />\nROADRUNNER&nbsp\;<br />\nFLOATING DOCK BAR</span></div>\n
LOCATION:ROADRUNNER FLOATING DOCK BAR AND GRILL ON THE PARKER STRIP PARKER\, AZ
UID:e.2234.2005
SEQUENCE:3
DTSTAMP:20260423T231711Z
URL:http://business.parkeraz.org/events/details/fireworks-at-roadrunner-2005
END:VEVENT

END:VCALENDAR
