BEGIN:VCALENDAR
VERSION:2.0
PRODID:-//ChamberMaster//Event Calendar 2.0//EN
METHOD:PUBLISH
X-PUBLISHED-TTL:P3D
REFRESH-INTERVAL:P3D
CALSCALE:GREGORIAN
BEGIN:VEVENT
DTSTART:20180705T030000Z
DTEND:20180705T050000Z
X-MICROSOFT-CDO-ALLDAYEVENT:FALSE
SUMMARY:Fireworks at Roadrunner
DESCRIPTION:FIREWORKS \n\nAT \n\nROADRUNNER \n\nFLOATING DOCK BAR\n\nAND GRILL
X-ALT-DESC;FMTTYPE=text/html:<div style="text-align: center\;"><span style="font-size: 20px\;">FIREWORKS&nbsp\;<br />\nAT&nbsp\;<br />\nROADRUNNER&nbsp\;<br />\nFLOATING DOCK BAR<br />\nAND GRILL</span></div>\n
LOCATION:ROADRUNNER FLOATING DOCK BAR AND GRILL PARKER\, AZ
UID:e.2234.2006
SEQUENCE:3
DTSTAMP:20260423T154510Z
URL:http://business.parkeraz.org/events/details/fireworks-at-roadrunner-2006
END:VEVENT

END:VCALENDAR
