BEGIN:VCALENDAR
VERSION:2.0
PRODID:-//ChamberMaster//Event Calendar 2.0//EN
METHOD:PUBLISH
X-PUBLISHED-TTL:P3D
REFRESH-INTERVAL:P3D
CALSCALE:GREGORIAN
BEGIN:VEVENT
DTSTART:20250923T191500Z
DTEND:20250923T191500Z
X-MICROSOFT-CDO-ALLDAYEVENT:FALSE
SUMMARY:Healthy Eating Class
DESCRIPTION:Open to Active SDP Participants\n\nContact 928-669-2825
X-ALT-DESC;FMTTYPE=text/html:Open to Active SDP Participants<br />\nContact 928-669-2825
LOCATION:At SDP Bld.1
UID:e.2234.12337
SEQUENCE:3
DTSTAMP:20260420T233351Z
URL:http://business.parkeraz.org/events/details/healthy-eating-class-12337
END:VEVENT

END:VCALENDAR
