BEGIN:VCALENDAR
VERSION:2.0
PRODID:-//ChamberMaster//Event Calendar 2.0//EN
METHOD:PUBLISH
X-PUBLISHED-TTL:P3D
REFRESH-INTERVAL:P3D
CALSCALE:GREGORIAN
BEGIN:VEVENT
DTSTART:20200112T230000Z
DTEND:20200113T050000Z
X-MICROSOFT-CDO-ALLDAYEVENT:FALSE
SUMMARY:Ice Skating @ Western Park
DESCRIPTION:TOWN OF PARKER\n\nPARKS AND RECREATION \n\nDEPT PRESENT\n\nICE SKATING AT WESTERN PARK
X-ALT-DESC;FMTTYPE=text/html:<div style="text-align: center\;">TOWN OF PARKER<br />\nPARKS AND RECREATION&nbsp\;<br />\nDEPT PRESENT<br />\nICE SKATING AT WESTERN PARK</div>\n
LOCATION:WESTERN PARK PARKER\, AZ
UID:e.2234.3875
SEQUENCE:3
DTSTAMP:20260422T115036Z
URL:http://business.parkeraz.org/events/details/ice-skating-western-park-3875
END:VEVENT

END:VCALENDAR
