BEGIN:VCALENDAR
VERSION:2.0
PRODID:-//ChamberMaster//Event Calendar 2.0//EN
METHOD:PUBLISH
X-PUBLISHED-TTL:P3D
REFRESH-INTERVAL:P3D
CALSCALE:GREGORIAN
BEGIN:VEVENT
DTSTART:20251115T170000Z
DTEND:20251115T190000Z
X-MICROSOFT-CDO-ALLDAYEVENT:FALSE
SUMMARY:" IT'S HIP TO SNIP " CORNHOLE
DESCRIPTION:CORNHOLE - SINGLE- ELIMINATION TOURNEY !!\n\n( 9 AM REGISTRATION )\n\nPRIZES FOR 1ST\, 2ND & 3RD PLACE !!
X-ALT-DESC;FMTTYPE=text/html:CORNHOLE - SINGLE- ELIMINATION TOURNEY !!<br />\n( 9 AM REGISTRATION )<br />\nPRIZES FOR 1ST\, 2ND &amp\; 3RD PLACE !!&nbsp\;
LOCATION:SUNDANCE SALOON
UID:e.2234.12124
SEQUENCE:3
DTSTAMP:20260420T233036Z
URL:http://business.parkeraz.org/events/details/it-s-hip-to-snip-cornhole-12124
END:VEVENT

END:VCALENDAR
