BEGIN:VCALENDAR
VERSION:2.0
PRODID:-//ChamberMaster//Event Calendar 2.0//EN
METHOD:PUBLISH
X-PUBLISHED-TTL:P3D
REFRESH-INTERVAL:P3D
CALSCALE:GREGORIAN
BEGIN:VEVENT
DTSTART:20260503T020000Z
DTEND:20260503T060000Z
X-MICROSOFT-CDO-ALLDAYEVENT:FALSE
SUMMARY:Just Laugh
DESCRIPTION:Join the Brown Bag Bar as DANNY T Presents Just Laugh Comedy Night
X-ALT-DESC;FMTTYPE=text/html:Join the Brown Bag Bar as DANNY T Presents Just Laugh Comedy Night&nbsp\;
LOCATION:5220 N HWY 95
UID:e.2234.13518
SEQUENCE:3
DTSTAMP:20260421T211438Z
URL:http://business.parkeraz.org/events/details/just-laugh-13518
END:VEVENT

END:VCALENDAR
