BEGIN:VCALENDAR
VERSION:2.0
PRODID:-//ChamberMaster//Event Calendar 2.0//EN
METHOD:PUBLISH
X-PUBLISHED-TTL:P3D
REFRESH-INTERVAL:P3D
CALSCALE:GREGORIAN
BEGIN:VEVENT
DTSTART:20180308T160000Z
DTEND:20180311T060000Z
X-MICROSOFT-CDO-ALLDAYEVENT:FALSE
SUMMARY:La Paz County Fair
DESCRIPTION:LA PAZ COUNTY FAIR\n\nMARCH 8TH-10TH\, 2018\n\nLA PAZ COUNTY FAIR GROUNDS
X-ALT-DESC;FMTTYPE=text/html:<div style="text-align: center\;"><span style="font-size:26px\;">LA PAZ COUNTY FAIR<br />\nMARCH 8TH-10TH\, 2018<br />\nLA PAZ COUNTY FAIR GROUNDS</span></div>\n
LOCATION:LA PAZ COUNTY FAIR GROUNDS 21600 HILLSIDE DRIVE PARKER AZ
UID:e.2234.1887
SEQUENCE:3
DTSTAMP:20260425T110405Z
URL:http://business.parkeraz.org/events/details/la-paz-county-fair-1887
END:VEVENT

END:VCALENDAR
