BEGIN:VCALENDAR
VERSION:2.0
PRODID:-//ChamberMaster//Event Calendar 2.0//EN
METHOD:PUBLISH
X-PUBLISHED-TTL:P3D
REFRESH-INTERVAL:P3D
CALSCALE:GREGORIAN
BEGIN:VEVENT
DTSTART:20260503T030000Z
DTEND:20260503T060000Z
X-MICROSOFT-CDO-ALLDAYEVENT:FALSE
SUMMARY:Latin Legacy
DESCRIPTION:In the Showroom Latin Legacy including MC Magic\, Lil Rob\, Baby Bash
X-ALT-DESC;FMTTYPE=text/html:In the Showroom Latin Legacy including MC Magic\, Lil Rob\, Baby Bash
LOCATION:BlueWater Casino
UID:e.2234.13507
SEQUENCE:3
DTSTAMP:20260419T183938Z
URL:http://business.parkeraz.org/events/details/latin-legacy-13507
END:VEVENT

END:VCALENDAR
