BEGIN:VCALENDAR
VERSION:2.0
PRODID:-//ChamberMaster//Event Calendar 2.0//EN
METHOD:PUBLISH
X-PUBLISHED-TTL:P3D
REFRESH-INTERVAL:P3D
CALSCALE:GREGORIAN
BEGIN:VEVENT
DTSTART:20180126T003000Z
DTEND:20180126T020000Z
X-MICROSOFT-CDO-ALLDAYEVENT:FALSE
SUMMARY:Line Dancing at The Dig Lounge
DESCRIPTION:LINE DANCING\n\nWITH LEISA!\n\nCOUNTRY LINE DANCING\n\nLESSONS\n\nIN \n\nTHE DIG LOUNGE\n\nAT \n\nTHE BLUEWATER RESORT & CASINO
X-ALT-DESC;FMTTYPE=text/html:<div style="text-align: center\;"><span style="font-size:18px\;">LINE DANCING<br />\nWITH LEISA!<br />\nCOUNTRY LINE DANCING<br />\nLESSONS<br />\nIN&nbsp\;<br />\nTHE DIG LOUNGE<br />\nAT&nbsp\;<br />\nTHE BLUEWATER RESORT &amp\; CASINO</span></div>\n
LOCATION:THE DIG LOUNGE AT THE BLUEWATER RESORT & CASINO 11300 RESORT DRIVE PARKER\, AZ
UID:e.2234.1910
SEQUENCE:3
DTSTAMP:20260426T015041Z
URL:http://business.parkeraz.org/events/details/line-dancing-at-the-dig-lounge-1910
END:VEVENT

END:VCALENDAR
