BEGIN:VCALENDAR
VERSION:2.0
PRODID:-//ChamberMaster//Event Calendar 2.0//EN
METHOD:PUBLISH
X-PUBLISHED-TTL:P3D
REFRESH-INTERVAL:P3D
CALSCALE:GREGORIAN
BEGIN:VEVENT
DTSTART:20200625T010000Z
DTEND:20200625T030000Z
X-MICROSOFT-CDO-ALLDAYEVENT:FALSE
SUMMARY:Meet The Candidates
DESCRIPTION:Parker Area Chamber of Commerce \n\nPresents\n\nMeet the Candidates
X-ALT-DESC;FMTTYPE=text/html:<div style="text-align: center\;">Parker Area Chamber of Commerce&nbsp\;<br />\nPresents<br />\nMeet the Candidates</div>\n
LOCATION:Parker Community Senior Center
UID:e.2234.4073
SEQUENCE:3
DTSTAMP:20260423T215413Z
URL:http://business.parkeraz.org/events/details/meet-the-candidates-4073
END:VEVENT

END:VCALENDAR
