BEGIN:VCALENDAR
VERSION:2.0
PRODID:-//ChamberMaster//Event Calendar 2.0//EN
METHOD:PUBLISH
X-PUBLISHED-TTL:P3D
REFRESH-INTERVAL:P3D
CALSCALE:GREGORIAN
BEGIN:VEVENT
DTSTART:20250925T140000Z
DTEND:20250925T170000Z
X-MICROSOFT-CDO-ALLDAYEVENT:FALSE
SUMMARY:MET WORKS
DESCRIPTION:The Metropolitan Water District of Southern California presents METWORKS     Contracting information straight from The Source.\n\nLearn About:\n\n- How to become a vendor\n\n- What types of products and services Metropolitan is looking for \n\n -How to connect with buyers.
X-ALT-DESC;FMTTYPE=text/html:The Metropolitan Water District of Southern California presents METWORKS&nbsp\;&nbsp\; &nbsp\; Contracting information straight from The Source.<br />\nLearn About:<br />\n- How to become a vendor<br />\n- What types of products and services Metropolitan is looking for&nbsp\;<br />\n&nbsp\;-How to connect with buyers.
LOCATION:Lake Havasu Area Chamber Of Commerce * 314 London Bridge Road Lake Havasu City\, AZ 86403
UID:e.2234.12121
SEQUENCE:3
DTSTAMP:20260420T141901Z
URL:http://business.parkeraz.org/events/details/met-works-12121
END:VEVENT

END:VCALENDAR
