BEGIN:VCALENDAR
VERSION:2.0
PRODID:-//ChamberMaster//Event Calendar 2.0//EN
METHOD:PUBLISH
X-PUBLISHED-TTL:P3D
REFRESH-INTERVAL:P3D
CALSCALE:GREGORIAN
BEGIN:VEVENT
DTSTART;VALUE=DATE:20250215
DTEND;VALUE=DATE:20250216
TRANSP:TRANSPARENT
X-MICROSOFT-CDO-ALLDAYEVENT:TRUE
SUMMARY:Parker Rotary Desert Dash
DESCRIPTION:Parker Rotary Club presents the 34th Annual Buckskin Mountain Desert Dash - 5K Mountain Bike/5K Run/5K Fitness Walk at 9 am on Saturday\, February 15\, 2025\n\n \n\nCienega Springs Road \n\n \n\nEntry Fee: $25 until 02/01/2025 then $30.00 after 02/01/2025 and on Race Day.  $15.00 for children 12 & under\n\n \n\nPlease be advised the course runs through the Buckskin Mountains. The course is a graded road. This course lends itself not to a race but to a test of determination and adaptability. Vehicles will be parked at the registration area or continue to Nellie E. Saloon finish line. The course will be closed to all non-authorized traffic from 8:45 to 11 am since this is the only route vehicles must be off the course by 8:45 closure.  Transportation will not be provided from the Nellie E Saloon finish line back to the parking area.
X-ALT-DESC;FMTTYPE=text/html:<div style="box-sizing: border-box\; color: rgb(34\, 34\, 34)\; font-family: Roboto\, helvetica\, sans-serif\; font-size: 15px\;">Parker Rotary Club presents the 34th&nbsp\;Annual Buckskin Mountain Desert Dash - 5K Mountain Bike/5K Run/5K Fitness Walk at 9 am on Saturday\, February 15\, 2025</div>\n\n<div style="box-sizing: border-box\; color: rgb(34\, 34\, 34)\; font-family: Roboto\, helvetica\, sans-serif\; font-size: 15px\;">&nbsp\;</div>\n\n<div style="box-sizing: border-box\; color: rgb(34\, 34\, 34)\; font-family: Roboto\, helvetica\, sans-serif\; font-size: 15px\;">Cienega Springs Road&nbsp\;</div>\n\n<div style="box-sizing: border-box\; color: rgb(34\, 34\, 34)\; font-family: Roboto\, helvetica\, sans-serif\; font-size: 15px\;">&nbsp\;</div>\n\n<div style="box-sizing: border-box\; color: rgb(34\, 34\, 34)\; font-family: Roboto\, helvetica\, sans-serif\; font-size: 15px\;">Entry Fee: $25 until 02/01/2025&nbsp\;then $30.00 after 02/01/2025&nbsp\;and on Race Day.&nbsp\; $15.00 for children&nbsp\;12 &amp\; under</div>\n\n<div style="box-sizing: border-box\; color: rgb(34\, 34\, 34)\; font-family: Roboto\, helvetica\, sans-serif\; font-size: 15px\;">&nbsp\;</div>\n\n<div style="box-sizing: border-box\; color: rgb(34\, 34\, 34)\; font-family: Roboto\, helvetica\, sans-serif\; font-size: 15px\;">Please be advised the course runs through the Buckskin Mountains. The course is a graded road. This course lends itself not to a race but to a test of determination and adaptability. Vehicles will be parked at the registration area or continue to Nellie E. Saloon finish line. The course will be closed to all non-authorized traffic from 8:45 to 11 am since this is the only route vehicles must be off the course by 8:45 closure.&nbsp\; Transportation will not be provided from the Nellie E Saloon finish line back to the parking area.&nbsp\;</div>\n
LOCATION:
UID:e.2234.11573
SEQUENCE:3
DTSTAMP:20260425T150636Z
URL:http://business.parkeraz.org/events/details/parker-rotary-desert-dash-11573
END:VEVENT

END:VCALENDAR
