BEGIN:VCALENDAR
VERSION:2.0
PRODID:-//ChamberMaster//Event Calendar 2.0//EN
METHOD:PUBLISH
X-PUBLISHED-TTL:P3D
REFRESH-INTERVAL:P3D
CALSCALE:GREGORIAN
BEGIN:VEVENT
DTSTART:20250930T010000Z
DTEND:20250930T020000Z
X-MICROSOFT-CDO-ALLDAYEVENT:FALSE
SUMMARY:PIRA Meeting
DESCRIPTION:Join the  Parker Indian Rodeo Association and be part of the action.
X-ALT-DESC;FMTTYPE=text/html:Join the&nbsp\; Parker Indian Rodeo Association and be part of the action.
LOCATION:CRIT FD #80 1819 Mohave Rd. Parker\, Az 85344
UID:e.2234.12341
SEQUENCE:3
DTSTAMP:20260420T101257Z
URL:http://business.parkeraz.org/events/details/pira-meeting-12341
END:VEVENT

END:VCALENDAR
