BEGIN:VCALENDAR
VERSION:2.0
PRODID:-//ChamberMaster//Event Calendar 2.0//EN
METHOD:PUBLISH
X-PUBLISHED-TTL:P3D
REFRESH-INTERVAL:P3D
CALSCALE:GREGORIAN
BEGIN:VEVENT
DTSTART;VALUE=DATE:20250412
DTEND;VALUE=DATE:20250414
TRANSP:TRANSPARENT
X-MICROSOFT-CDO-ALLDAYEVENT:TRUE
SUMMARY:Spring Classic SCSC Powerboat Races
DESCRIPTION:Bluewater Resort & Casino Spring Classis SCSC Powerboat Races
X-ALT-DESC;FMTTYPE=text/html:Bluewater Resort &amp\; Casino Spring Classis SCSC Powerboat Races
LOCATION:
UID:e.2234.11559
SEQUENCE:3
DTSTAMP:20260424T230103Z
URL:http://business.parkeraz.org/events/details/spring-classic-scsc-powerboat-races-11559
END:VEVENT

END:VCALENDAR
