BEGIN:VCALENDAR
VERSION:2.0
PRODID:-//ChamberMaster//Event Calendar 2.0//EN
METHOD:PUBLISH
X-PUBLISHED-TTL:P3D
REFRESH-INTERVAL:P3D
CALSCALE:GREGORIAN
BEGIN:VEVENT
DTSTART:20200215T003000Z
DTEND:20200215T040000Z
X-MICROSOFT-CDO-ALLDAYEVENT:FALSE
SUMMARY:Valentine's Dinner and Dance
DESCRIPTION:SUNDANCE SALOON \n\nPRESENTS\n\nVALENTINE DINNER AND DANCE\n\nSTARRING RUSTY DAVIS AS\n\nGLENN MILLER
X-ALT-DESC;FMTTYPE=text/html:<div style="text-align: center\;">SUNDANCE SALOON&nbsp\;<br />\nPRESENTS<br />\nVALENTINE DINNER AND DANCE<br />\nSTARRING RUSTY DAVIS AS<br />\nGLENN MILLER</div>\n
LOCATION:SUNDANCE SALOON 5920 RIVERSIDE DRIVE PARKER\, AZ
UID:e.2234.4050
SEQUENCE:3
DTSTAMP:20260421T224837Z
URL:http://business.parkeraz.org/events/details/valentine-s-dinner-and-dance-4050
END:VEVENT

END:VCALENDAR
