BEGIN:VCALENDAR
VERSION:2.0
PRODID:-//ChamberMaster//Event Calendar 2.0//EN
METHOD:PUBLISH
X-PUBLISHED-TTL:P3D
REFRESH-INTERVAL:P3D
CALSCALE:GREGORIAN
BEGIN:VEVENT
DTSTART:20191109T170000Z
DTEND:20191109T190000Z
X-MICROSOFT-CDO-ALLDAYEVENT:FALSE
SUMMARY:Veteran's Day Parade
DESCRIPTION:VETERAN'S \n\nDAY PARADE\n\n ON JOSHUA STREET
X-ALT-DESC;FMTTYPE=text/html:<div style="text-align: center\;">VETERAN&#39\;S&nbsp\;<br />\nDAY PARADE<br />\n&nbsp\;ON JOSHUA STREET</div>\n
LOCATION:JOSHUA STREET PARKER\, AZ
UID:e.2234.3355
SEQUENCE:3
DTSTAMP:20260425T020132Z
URL:http://business.parkeraz.org/events/details/veteran-s-day-parade-3355
END:VEVENT

END:VCALENDAR
