BEGIN:VCALENDAR
VERSION:2.0
PRODID:-//ChamberMaster//Event Calendar 2.0//EN
METHOD:PUBLISH
X-PUBLISHED-TTL:P3D
REFRESH-INTERVAL:P3D
CALSCALE:GREGORIAN
BEGIN:VEVENT
DTSTART;VALUE=DATE:20201022
DTEND;VALUE=DATE:20201026
TRANSP:TRANSPARENT
X-MICROSOFT-CDO-ALLDAYEVENT:TRUE
SUMMARY:2020 BlueWater Desert Challenge
DESCRIPTION:Best in the Desert\n\n2020 BlueWater Desert Challenge\n\nOctober 22-25th\, 2019\n\n\n\nMore information to come.
X-ALT-DESC;FMTTYPE=text/html:<div style="text-align: center\;"><span style="font-size:20px\;">Best in the Desert<br />\n2020 BlueWater Desert Challenge<br />\nOctober 22-25th\, 2019<br />\n<br />\nMore information to come.</span></div>\n
LOCATION:
UID:e.2234.3353
SEQUENCE:3
DTSTAMP:20260424T141850Z
URL:https://business.parkeraz.org/events/details/2020-bluewater-desert-challenge-3353
END:VEVENT

END:VCALENDAR
