BEGIN:VCALENDAR
VERSION:2.0
PRODID:-//ChamberMaster//Event Calendar 2.0//EN
METHOD:PUBLISH
X-PUBLISHED-TTL:P3D
REFRESH-INTERVAL:P3D
CALSCALE:GREGORIAN
BEGIN:VEVENT
DTSTART:20210911T170000Z
DTEND:20210911T190000Z
X-MICROSOFT-CDO-ALLDAYEVENT:FALSE
SUMMARY:9/11 Memorial Exhibit @ The Library
DESCRIPTION:9/11\n\nMEMORIAL EXHIBIT \n\nAT \n\nTHE PARKER PUBLIC LIBRARY
X-ALT-DESC;FMTTYPE=text/html:<div style="text-align: center\;"><span style="color:#FFFFFF\;"><strong><span style="background-color:#FF0000\;">9/11</span><br />\n<span style="background-color:#FF0000\;">MEMORIAL EXHIBIT&nbsp\;</span><br />\n<span style="background-color:#FF0000\;">AT&nbsp\;</span><br />\n<span style="background-color:#FF0000\;">THE PARKER PUBLIC LIBRARY</span></strong></span><br />\n&nbsp\;</div>\n
LOCATION:THE PARKER PUBLIC LIBRARY 1001 NAVAJO AVE PARKER\, AZ
UID:e.2234.6623
SEQUENCE:3
DTSTAMP:20260424T131523Z
URL:https://business.parkeraz.org/events/details/9-11-memorial-exhibit-the-library-6623
END:VEVENT

END:VCALENDAR
