BEGIN:VCALENDAR
VERSION:2.0
PRODID:-//ChamberMaster//Event Calendar 2.0//EN
METHOD:PUBLISH
X-PUBLISHED-TTL:P3D
REFRESH-INTERVAL:P3D
CALSCALE:GREGORIAN
BEGIN:VEVENT
DTSTART:20191114T170000Z
DTEND:20191114T210000Z
X-MICROSOFT-CDO-ALLDAYEVENT:FALSE
SUMMARY:Antiques Appraisals at the Library
DESCRIPTION:ANTIQUE APPRAISALS\n\nBY DAVE BOLSTER\n\nANTIQUE ROAD SHOW FORMAT\n\nPARKER LIBRARY
X-ALT-DESC;FMTTYPE=text/html:<div style="text-align: center\;">ANTIQUE APPRAISALS<br />\nBY DAVE BOLSTER<br />\nANTIQUE ROAD SHOW FORMAT<br />\nPARKER LIBRARY</div>\n
LOCATION:PARKER PUBLIC LIBRARY 1001 NAVAJO AVE PARKER\, AZ
UID:e.2234.3695
SEQUENCE:3
DTSTAMP:20260425T035216Z
URL:https://business.parkeraz.org/events/details/antiques-appraisals-at-the-library-3695
END:VEVENT

END:VCALENDAR
