BEGIN:VCALENDAR
VERSION:2.0
PRODID:-//ChamberMaster//Event Calendar 2.0//EN
METHOD:PUBLISH
X-PUBLISHED-TTL:P3D
REFRESH-INTERVAL:P3D
CALSCALE:GREGORIAN
BEGIN:VEVENT
DTSTART:20200212T170000Z
DTEND:20200212T210000Z
X-MICROSOFT-CDO-ALLDAYEVENT:FALSE
SUMMARY:Antiques Appraisals at the Library
DESCRIPTION:ANTIQUES APPRAISALS \n\nBY DAVE BOLSTER
X-ALT-DESC;FMTTYPE=text/html:<div style="text-align: center\;">ANTIQUES APPRAISALS&nbsp\;<br />\nBY DAVE BOLSTER<br />\n&nbsp\;</div>\n
LOCATION:PARKER PUBLIC LIBRARY 1001 NAVAJO AVE PARKER\, AZ
UID:e.2234.3702
SEQUENCE:3
DTSTAMP:20260425T000120Z
URL:https://business.parkeraz.org/events/details/antiques-appraisals-at-the-library-3702
END:VEVENT

END:VCALENDAR
