BEGIN:VCALENDAR
VERSION:2.0
PRODID:-//ChamberMaster//Event Calendar 2.0//EN
METHOD:PUBLISH
X-PUBLISHED-TTL:P3D
REFRESH-INTERVAL:P3D
CALSCALE:GREGORIAN
BEGIN:VEVENT
DTSTART:20200108T200000Z
DTEND:20200108T213000Z
X-MICROSOFT-CDO-ALLDAYEVENT:FALSE
SUMMARY:Arizona Humanities Speaker Series
DESCRIPTION:PARKER PUBLIC \n\nLIBRARY AND\n\nAZ HUMANITIES SPEAKER \n\nSERIES PRESENTS\n\nERIC BERG\n\n"ROCK HOUNDS & RIVER RATS"
X-ALT-DESC;FMTTYPE=text/html:<div style="text-align: center\;">PARKER PUBLIC&nbsp\;<br />\nLIBRARY AND<br />\nAZ HUMANITIES SPEAKER&nbsp\;<br />\nSERIES PRESENTS<br />\nERIC BERG<br />\n&quot\;ROCK HOUNDS &amp\; RIVER RATS&quot\;</div>\n
LOCATION:A.W.C. COMMUNITY CENTER 1109 GERONIMO AVE PARKER\, AZ
UID:e.2234.3699
SEQUENCE:3
DTSTAMP:20260425T023619Z
URL:https://business.parkeraz.org/events/details/arizona-humanities-speaker-series-3699
END:VEVENT

END:VCALENDAR
