BEGIN:VCALENDAR
VERSION:2.0
PRODID:-//ChamberMaster//Event Calendar 2.0//EN
METHOD:PUBLISH
X-PUBLISHED-TTL:P3D
REFRESH-INTERVAL:P3D
CALSCALE:GREGORIAN
BEGIN:VEVENT
DTSTART:20210914T200000Z
DTEND:20210914T210000Z
X-MICROSOFT-CDO-ALLDAYEVENT:FALSE
SUMMARY:Arts & Crafts at the Senior Center
DESCRIPTION:ARTS & CRAFTS \n\nAT THE \n\nTOWN OF PARKER\n\nCOMMUNITY SENIOR CENTER
X-ALT-DESC;FMTTYPE=text/html:<div style="text-align: center\;">ARTS &amp\; CRAFTS&nbsp\;<br />\nAT THE&nbsp\;<br />\nTOWN OF PARKER<br />\nCOMMUNITY SENIOR CENTER</div>\n
LOCATION:TOWN OF PARKER COMMUNITY SENIOR CENTER 1115 12TH STREET PARKER\, AZ
UID:e.2234.6339
SEQUENCE:3
DTSTAMP:20260424T131952Z
URL:https://business.parkeraz.org/events/details/arts-crafts-at-the-senior-center-09-14-2021-6339
END:VEVENT

END:VCALENDAR
