BEGIN:VCALENDAR
VERSION:2.0
PRODID:-//ChamberMaster//Event Calendar 2.0//EN
METHOD:PUBLISH
X-PUBLISHED-TTL:P3D
REFRESH-INTERVAL:P3D
CALSCALE:GREGORIAN
BEGIN:VEVENT
DTSTART:20211015T000000Z
DTEND:20211015T040000Z
X-MICROSOFT-CDO-ALLDAYEVENT:FALSE
SUMMARY:Autumn Awareness Festival
DESCRIPTION:COLORADO RIVER REGIONAL\n\nCRISIS SERVICES \n\nPRESENTS\n\nTHE AUTUMN AWARENESS FESTIVAL
X-ALT-DESC;FMTTYPE=text/html:<div style="text-align: center\;">COLORADO RIVER REGIONAL<br />\nCRISIS SERVICES&nbsp\;<br />\nPRESENTS<br />\n<span style="font-size:16px\;"><span style="color:#000000\;"><strong><span style="background-color:#FFD700\;">THE AUTUMN AWARENESS FESTIVAL</span></strong></span></span></div>\n
LOCATION:COLORADO RIVER REGIONAL CRISIS SERVICES 1316 S. JOSHUA AVENUE PARKER\, AZ
UID:e.2234.6636
SEQUENCE:3
DTSTAMP:20260424T130325Z
URL:https://business.parkeraz.org/events/details/autumn-awareness-festival-6636
END:VEVENT

END:VCALENDAR
