BEGIN:VCALENDAR
VERSION:2.0
PRODID:-//ChamberMaster//Event Calendar 2.0//EN
METHOD:PUBLISH
X-PUBLISHED-TTL:P3D
REFRESH-INTERVAL:P3D
CALSCALE:GREGORIAN
BEGIN:VEVENT
DTSTART:20200208T190000Z
DTEND:20200209T000000Z
X-MICROSOFT-CDO-ALLDAYEVENT:FALSE
SUMMARY:B.P.O.E. Does Wine and Food Tasting
DESCRIPTION:B.P.O.E.\n\nDOES WINE AND FOOD TASTING
X-ALT-DESC;FMTTYPE=text/html:<div style="text-align: center\;">B.P.O.E.<br />\nDOES WINE AND FOOD TASTING</div>\n
LOCATION:PARKER ELKS LODGE # 1929 716 S LAGUNA AVE PARKER\, AZ
UID:e.2234.3914
SEQUENCE:3
DTSTAMP:20260425T000118Z
URL:https://business.parkeraz.org/events/details/b-p-o-e-does-wine-and-food-tasting-3914
END:VEVENT

END:VCALENDAR
