BEGIN:VCALENDAR
VERSION:2.0
PRODID:-//ChamberMaster//Event Calendar 2.0//EN
METHOD:PUBLISH
X-PUBLISHED-TTL:P3D
REFRESH-INTERVAL:P3D
CALSCALE:GREGORIAN
BEGIN:VEVENT
DTSTART;VALUE=DATE:20200111
DTEND;VALUE=DATE:20200112
TRANSP:TRANSPARENT
X-MICROSOFT-CDO-ALLDAYEVENT:TRUE
SUMMARY:Best in the Desert Parker "250" Off Road Race
DESCRIPTION:BEST \n\nIN THE \n\nDESERT \n\nPARKER 250\n\nOFF ROAD RACE
X-ALT-DESC;FMTTYPE=text/html:<div style="text-align: center\;">BEST&nbsp\;<br />\nIN THE&nbsp\;<br />\nDESERT&nbsp\;<br />\nPARKER 250<br />\nOFF ROAD RACE</div>\n
LOCATION:PARKER\, AZ
UID:e.2234.3313
SEQUENCE:3
DTSTAMP:20260425T012930Z
URL:https://business.parkeraz.org/events/details/best-in-the-desert-parker-250-off-road-race-3313
END:VEVENT

END:VCALENDAR
