BEGIN:VCALENDAR
VERSION:2.0
PRODID:-//ChamberMaster//Event Calendar 2.0//EN
METHOD:PUBLISH
X-PUBLISHED-TTL:P3D
REFRESH-INTERVAL:P3D
CALSCALE:GREGORIAN
BEGIN:VEVENT
DTSTART;VALUE=DATE:20200126
DTEND;VALUE=DATE:20200127
TRANSP:TRANSPARENT
X-MICROSOFT-CDO-ALLDAYEVENT:TRUE
SUMMARY:Best in the Desert Parker "425" Off Road Race
DESCRIPTION:BEST IN THE\n\nDESERT\n\nPARKER "425" \n\nOFF ROAD RACE
X-ALT-DESC;FMTTYPE=text/html:<div style="text-align: center\;">BEST IN THE<br />\nDESERT<br />\nPARKER &quot\;425&quot\;&nbsp\;<br />\nOFF ROAD RACE</div>\n
LOCATION:PARKER\, AZ
UID:e.2234.3318
SEQUENCE:3
DTSTAMP:20260425T012940Z
URL:https://business.parkeraz.org/events/details/best-in-the-desert-parker-425-off-road-race-3318
END:VEVENT

END:VCALENDAR
