BEGIN:VCALENDAR
VERSION:2.0
PRODID:-//ChamberMaster//Event Calendar 2.0//EN
METHOD:PUBLISH
X-PUBLISHED-TTL:P3D
REFRESH-INTERVAL:P3D
CALSCALE:GREGORIAN
BEGIN:VEVENT
DTSTART:20191123T170000Z
DTEND:20191123T190000Z
X-MICROSOFT-CDO-ALLDAYEVENT:FALSE
SUMMARY:Book Sale at the Parker Library
DESCRIPTION:BOOK SALE \n\nAT THE PARKER\n\nPUBLIC LIBRARY
X-ALT-DESC;FMTTYPE=text/html:<div style="text-align: center\;">BOOK SALE&nbsp\;<br />\nAT THE PARKER<br />\nPUBLIC LIBRARY</div>\n
LOCATION:PARKER PUBLIC LIBRARY 1109 NAVAJO AVE PARKER\, AZ
UID:e.2234.3705
SEQUENCE:3
DTSTAMP:20260425T035511Z
URL:https://business.parkeraz.org/events/details/book-sale-at-the-parker-library-3705
END:VEVENT

END:VCALENDAR
