BEGIN:VCALENDAR
VERSION:2.0
PRODID:-//ChamberMaster//Event Calendar 2.0//EN
METHOD:PUBLISH
X-PUBLISHED-TTL:P3D
REFRESH-INTERVAL:P3D
CALSCALE:GREGORIAN
BEGIN:VEVENT
DTSTART;VALUE=DATE:20240422
DTEND;VALUE=DATE:20240423
TRANSP:TRANSPARENT
X-MICROSOFT-CDO-ALLDAYEVENT:TRUE
SUMMARY:Broadband Fiber Optics Certificate Course
DESCRIPTION:This certificate prepares the student for a career as an entry-level telecommunications\n\ntechnician specializing in fiber optics. Students will learn to install\, terminate\, test\, and\n\ntroubleshoot single-mode and multimode fiber optic cabling systems in a variety of building\n\nfoundations. Coursework covers topics such as fiber optics theory and principles\,\n\nbroadband technologies\, installation\, and termination techniques\, and splicing and repair\n\nprocedures. Students will also gain hands-on experience using industry-standard equipment.\n\nThis 4-week hybrid course meets in-person for hands-on learning as students work through\n\ncoursework online on their own time. For class info\, call 928-344-7757.
X-ALT-DESC;FMTTYPE=text/html:This certificate prepares the student for a career as an entry-level telecommunications<br />\ntechnician specializing in fiber optics. Students will learn to install\, terminate\, test\, and<br />\ntroubleshoot single-mode and multimode fiber optic cabling systems in a variety of building<br />\nfoundations. Coursework covers topics such as fiber optics theory and principles\,<br />\nbroadband technologies\, installation\, and termination techniques\, and splicing and repair<br />\nprocedures. Students will also gain hands-on experience using industry-standard equipment.<br />\nThis 4-week hybrid course meets in-person for hands-on learning as students work through<br />\ncoursework online on their own time. For class info\, call 928-344-7757.
LOCATION:Parker Community Center\, Room 119
UID:e.2234.11361
SEQUENCE:3
DTSTAMP:20260425T002338Z
URL:https://business.parkeraz.org/events/details/broadband-fiber-optics-certificate-course-11361
END:VEVENT

END:VCALENDAR
