BEGIN:VCALENDAR
VERSION:2.0
PRODID:-//ChamberMaster//Event Calendar 2.0//EN
METHOD:PUBLISH
X-PUBLISHED-TTL:P3D
REFRESH-INTERVAL:P3D
CALSCALE:GREGORIAN
BEGIN:VEVENT
DTSTART:20200227T200000Z
DTEND:20200227T230000Z
X-MICROSOFT-CDO-ALLDAYEVENT:FALSE
SUMMARY:Career Expo At AWC Learning Center
DESCRIPTION:ARIZONA WESTERN COLLEGE \n\nTRANSFER AND CAREER EXPO
X-ALT-DESC;FMTTYPE=text/html:<div style="text-align: center\;">ARIZONA WESTERN COLLEGE&nbsp\;<br />\nTRANSFER AND CAREER EXPO<br />\n&nbsp\;</div>\n
LOCATION:1109 GERONIMO AVENUE PARKER\, AZ
UID:e.2234.3898
SEQUENCE:3
DTSTAMP:20260425T000302Z
URL:https://business.parkeraz.org/events/details/career-expo-at-awc-learning-center-3898
END:VEVENT

END:VCALENDAR
