BEGIN:VCALENDAR
VERSION:2.0
PRODID:-//ChamberMaster//Event Calendar 2.0//EN
METHOD:PUBLISH
X-PUBLISHED-TTL:P3D
REFRESH-INTERVAL:P3D
CALSCALE:GREGORIAN
BEGIN:VEVENT
DTSTART:20200117T003000Z
DTEND:20200117T023000Z
X-MICROSOFT-CDO-ALLDAYEVENT:FALSE
SUMMARY:Chamber Mixer at La Paz Regional Hospital
DESCRIPTION:AFTER HOURS \n\nBUSINESS MIXER AT\n\nLA PAZ REGIONAL HOSPITAL
X-ALT-DESC;FMTTYPE=text/html:<div style="text-align: center\;">AFTER HOURS&nbsp\;<br />\nBUSINESS MIXER AT<br />\nLA PAZ REGIONAL HOSPITAL</div>\n
LOCATION:LA PAZ REGIONAL HOSPITAL 1200 S MOHAVE AVE PARKER\, AZ
UID:e.2234.3882
SEQUENCE:3
DTSTAMP:20260425T013448Z
URL:https://business.parkeraz.org/events/details/chamber-mixer-at-la-paz-regional-hospital-3882
END:VEVENT

END:VCALENDAR
