BEGIN:VCALENDAR
VERSION:2.0
PRODID:-//ChamberMaster//Event Calendar 2.0//EN
METHOD:PUBLISH
X-PUBLISHED-TTL:P3D
REFRESH-INTERVAL:P3D
CALSCALE:GREGORIAN
BEGIN:VEVENT
DTSTART:20191122T003000Z
DTEND:20191122T023000Z
X-MICROSOFT-CDO-ALLDAYEVENT:FALSE
SUMMARY:Chamber Mixer @ Bradley Chevrolet
DESCRIPTION:CHAMBER MIXER \n\nAT \n\nBRADLEY CHEVROLET
X-ALT-DESC;FMTTYPE=text/html:<div style="text-align: center\;">CHAMBER MIXER&nbsp\;<br />\nAT&nbsp\;<br />\nBRADLEY CHEVROLET</div>\n
LOCATION:BRADLEY CHEVROLET PARKER\, AZ
UID:e.2234.3694
SEQUENCE:3
DTSTAMP:20260425T035233Z
URL:https://business.parkeraz.org/events/details/chamber-mixer-bradley-chevrolet-3694
END:VEVENT

END:VCALENDAR
