BEGIN:VCALENDAR
VERSION:2.0
PRODID:-//ChamberMaster//Event Calendar 2.0//EN
METHOD:PUBLISH
X-PUBLISHED-TTL:P3D
REFRESH-INTERVAL:P3D
CALSCALE:GREGORIAN
BEGIN:VEVENT
DTSTART:20210716T003000Z
DTEND:20210716T020000Z
X-MICROSOFT-CDO-ALLDAYEVENT:FALSE
SUMMARY:Chamber Mixer @ Havasu Springs
DESCRIPTION:
X-ALT-DESC;FMTTYPE=text/html:
LOCATION:TBD
UID:e.2234.4181
SEQUENCE:3
DTSTAMP:20260424T102545Z
URL:https://business.parkeraz.org/events/details/chamber-mixer-havasu-springs-4181
END:VEVENT

END:VCALENDAR
