BEGIN:VCALENDAR
VERSION:2.0
PRODID:-//ChamberMaster//Event Calendar 2.0//EN
METHOD:PUBLISH
X-PUBLISHED-TTL:P3D
REFRESH-INTERVAL:P3D
CALSCALE:GREGORIAN
BEGIN:VEVENT
DTSTART:20211022T003000Z
DTEND:20211022T020000Z
X-MICROSOFT-CDO-ALLDAYEVENT:FALSE
SUMMARY:Chamber Mixer sponsored by the soroptmist International Of Parker at the Parker Public Library
DESCRIPTION:Business Mixer where you can mingle and network with other community business owners and members
X-ALT-DESC;FMTTYPE=text/html:Business Mixer where you can mingle and network with other community business owners and members
LOCATION:Parker Public Library
UID:e.2234.4178
SEQUENCE:3
DTSTAMP:20260424T130623Z
URL:https://business.parkeraz.org/events/details/chamber-mixer-sponsored-by-the-soroptmist-international-of-parker-at-the-parker-public-library-4178
END:VEVENT

END:VCALENDAR
