BEGIN:VCALENDAR
VERSION:2.0
PRODID:-//ChamberMaster//Event Calendar 2.0//EN
METHOD:PUBLISH
X-PUBLISHED-TTL:P3D
REFRESH-INTERVAL:P3D
CALSCALE:GREGORIAN
BEGIN:VEVENT
DTSTART:20210820T003000Z
DTEND:20210820T020000Z
X-MICROSOFT-CDO-ALLDAYEVENT:FALSE
SUMMARY:Chamber Mixer @ VFW Post #7061
DESCRIPTION:
X-ALT-DESC;FMTTYPE=text/html:
LOCATION:VFW Post #7061 HOPI AVE PARKER\, AZ
UID:e.2234.4180
SEQUENCE:3
DTSTAMP:20260424T102559Z
URL:https://business.parkeraz.org/events/details/chamber-mixer-vfw-post-7061-08-19-2021-4180
END:VEVENT

END:VCALENDAR
