BEGIN:VCALENDAR
VERSION:2.0
PRODID:-//ChamberMaster//Event Calendar 2.0//EN
METHOD:PUBLISH
X-PUBLISHED-TTL:P3D
REFRESH-INTERVAL:P3D
CALSCALE:GREGORIAN
BEGIN:VEVENT
DTSTART:20200122T200000Z
DTEND:20200122T210000Z
X-MICROSOFT-CDO-ALLDAYEVENT:FALSE
SUMMARY:Chili & Chocolate/Az Humanities Speaker Series
DESCRIPTION:PARKER PUBLIC \n\nLIBRARY AND\n\nAZ HUMANITIES SPEAKER\n\nSERIES PRESENT:\n\n'CHILI & CHOCOLATE' WITH\n\nCHRIS GLENN & SANDY SUNSERI
X-ALT-DESC;FMTTYPE=text/html:<div style="text-align: center\;">PARKER PUBLIC&nbsp\;<br />\nLIBRARY AND<br />\nAZ HUMANITIES SPEAKER<br />\nSERIES PRESENT:<br />\n&#39\;CHILI &amp\; CHOCOLATE&#39\; WITH<br />\nCHRIS GLENN &amp\; SANDY SUNSERI</div>\n
LOCATION:A.W.C. COMMUNITY CENTER 1109 GERONIMO AVE PARKER\, AZ
UID:e.2234.3700
SEQUENCE:3
DTSTAMP:20260425T012315Z
URL:https://business.parkeraz.org/events/details/chili-chocolate-az-humanities-speaker-series-3700
END:VEVENT

END:VCALENDAR
