BEGIN:VCALENDAR
VERSION:2.0
PRODID:-//ChamberMaster//Event Calendar 2.0//EN
METHOD:PUBLISH
X-PUBLISHED-TTL:P3D
REFRESH-INTERVAL:P3D
CALSCALE:GREGORIAN
BEGIN:VEVENT
DTSTART;VALUE=DATE:20211002
DTEND;VALUE=DATE:20211003
TRANSP:TRANSPARENT
X-MICROSOFT-CDO-ALLDAYEVENT:TRUE
SUMMARY:Desert Bar Opens!
DESCRIPTION:Nellie E. Saloon\n\nA.K.A.\n\nThe Desert Bar Opening Day
X-ALT-DESC;FMTTYPE=text/html:<div style="text-align: center\;">Nellie E. Saloon<br />\nA.K.A.<br />\nThe Desert Bar Opening Day</div>\n
LOCATION:THE DESERT BAR PARKER\, AZ
UID:e.2234.6662
SEQUENCE:3
DTSTAMP:20260424T125945Z
URL:https://business.parkeraz.org/events/details/desert-bar-opens-6662
END:VEVENT

END:VCALENDAR
