BEGIN:VCALENDAR
VERSION:2.0
PRODID:-//ChamberMaster//Event Calendar 2.0//EN
METHOD:PUBLISH
X-PUBLISHED-TTL:P3D
REFRESH-INTERVAL:P3D
CALSCALE:GREGORIAN
BEGIN:VEVENT
DTSTART:20210925T220000Z
DTEND:20210926T010000Z
X-MICROSOFT-CDO-ALLDAYEVENT:FALSE
SUMMARY:Eagle's Christmas in September Dinner Fundraiser
DESCRIPTION:PARKER EAGLES PRESENTS\n\nCHRISTMAS IN SEPTEMBER\n\nDINNER
X-ALT-DESC;FMTTYPE=text/html:PARKER EAGLES PRESENTS<br />\nCHRISTMAS IN SEPTEMBER<br />\nDINNER
LOCATION:Eagles of Parker Aarie # 4419 1300 Arizona Ave Parker\, AZ 85344
UID:e.2234.6637
SEQUENCE:3
DTSTAMP:20260424T131542Z
URL:https://business.parkeraz.org/events/details/eagle-s-christmas-in-september-dinner-fundraiser-6637
END:VEVENT

END:VCALENDAR
