BEGIN:VCALENDAR
VERSION:2.0
PRODID:-//ChamberMaster//Event Calendar 2.0//EN
METHOD:PUBLISH
X-PUBLISHED-TTL:P3D
REFRESH-INTERVAL:P3D
CALSCALE:GREGORIAN
BEGIN:VEVENT
DTSTART:20210911T140000Z
DTEND:20210911T210000Z
X-MICROSOFT-CDO-ALLDAYEVENT:FALSE
SUMMARY:Eagles Yard Sale
DESCRIPTION:PARKER EAGLES\n\nSUMMER YARD SALE
X-ALT-DESC;FMTTYPE=text/html:<div style="text-align: center\;">PARKER EAGLES<br />\nSUMMER YARD SALE</div>\n
LOCATION:WESTERN PARK PARKER\, AZ
UID:e.2234.6656
SEQUENCE:3
DTSTAMP:20260424T131355Z
URL:https://business.parkeraz.org/events/details/eagles-yard-sale-6656
END:VEVENT

END:VCALENDAR
