BEGIN:VCALENDAR
VERSION:2.0
PRODID:-//ChamberMaster//Event Calendar 2.0//EN
METHOD:PUBLISH
X-PUBLISHED-TTL:P3D
REFRESH-INTERVAL:P3D
CALSCALE:GREGORIAN
BEGIN:VEVENT
DTSTART:20200223T010000Z
DTEND:20200223T030000Z
X-MICROSOFT-CDO-ALLDAYEVENT:FALSE
SUMMARY:Eric Burdon and the Animals/Bluewater Casino
DESCRIPTION:ERIC BURDON\n\nAND THE ANIMALS\n\nAT THE BLUEWATER CASINO \n\nAMPHITHEATER
X-ALT-DESC;FMTTYPE=text/html:<div style="text-align: center\;">ERIC BURDON<br />\nAND THE ANIMALS<br />\nAT THE BLUEWATER CASINO&nbsp\;<br />\nAMPHITHEATER&nbsp\;</div>\n
LOCATION:THE AMPHITHEATER AT BLUEWATER CASINO PARKER\, AZ
UID:e.2234.4054
SEQUENCE:3
DTSTAMP:20260425T012408Z
URL:https://business.parkeraz.org/events/details/eric-burdon-and-the-animals-bluewater-casino-4054
END:VEVENT

END:VCALENDAR
