BEGIN:VCALENDAR
VERSION:2.0
PRODID:-//ChamberMaster//Event Calendar 2.0//EN
METHOD:PUBLISH
X-PUBLISHED-TTL:P3D
REFRESH-INTERVAL:P3D
CALSCALE:GREGORIAN
BEGIN:VEVENT
DTSTART:20210816T170000Z
DTEND:20210816T180000Z
X-MICROSOFT-CDO-ALLDAYEVENT:FALSE
SUMMARY:Food for Thought (Healthy Cooking Tips) at the Senior Center
DESCRIPTION:FOOD FOR THOUGHT\n\n*HEALTHY COOKING TIPS & TRICKS*\n\nAT THE \n\nTOWN OF PARKER\n\nPARKER SENIOR COMMUNITY CENTER
X-ALT-DESC;FMTTYPE=text/html:<div style="text-align: center\;">FOOD FOR THOUGHT<br />\n*HEALTHY COOKING TIPS &amp\; TRICKS*<br />\nAT THE&nbsp\;<br />\nTOWN OF PARKER<br />\nPARKER SENIOR COMMUNITY CENTER</div>\n
LOCATION:TOWN OF PARKER SENIOR COMMUNITY CENTER 1115 12TH STREET PARKER\, AZ
UID:e.2234.6359
SEQUENCE:3
DTSTAMP:20260424T102940Z
URL:https://business.parkeraz.org/events/details/food-for-thought-healthy-cooking-tips-at-the-senior-center-08-16-2021-6359
END:VEVENT

END:VCALENDAR
