BEGIN:VCALENDAR
VERSION:2.0
PRODID:-//ChamberMaster//Event Calendar 2.0//EN
METHOD:PUBLISH
X-PUBLISHED-TTL:P3D
REFRESH-INTERVAL:P3D
CALSCALE:GREGORIAN
BEGIN:VEVENT
DTSTART:20211021T003000Z
DTEND:20211021T020000Z
X-MICROSOFT-CDO-ALLDAYEVENT:FALSE
SUMMARY:Food Handler's Class
DESCRIPTION:FOOD HANDLER'S CLASS\n\nAT PARKER ELK'S LODGE
X-ALT-DESC;FMTTYPE=text/html:<span style="font-size: 20px\;">FOOD HANDLER&#39\;S CLASS<br />\nAT PARKER ELK&#39\;S LODGE</span>
LOCATION:PARKER ELK'S LODGE 716 S. LAGUNA AVENUE PARKER\, AZ
UID:e.2234.6672
SEQUENCE:3
DTSTAMP:20260424T130027Z
URL:https://business.parkeraz.org/events/details/food-handler-s-class-6672
END:VEVENT

END:VCALENDAR
