BEGIN:VCALENDAR
VERSION:2.0
PRODID:-//ChamberMaster//Event Calendar 2.0//EN
METHOD:PUBLISH
X-PUBLISHED-TTL:P3D
REFRESH-INTERVAL:P3D
CALSCALE:GREGORIAN
BEGIN:VEVENT
DTSTART:20211028T223000Z
DTEND:20211029T010000Z
X-MICROSOFT-CDO-ALLDAYEVENT:FALSE
SUMMARY:Fox's Pumpkin Carving Contest
DESCRIPTION:PUMPKIN CARVING CONTEST\n\nAT \n\nFOX'S!!!
X-ALT-DESC;FMTTYPE=text/html:<div style="text-align: center\;"><span style="color:#000000\;"><strong><span style="font-size:20px\;"><span style="background-color:#ff9933\;">PUMPKIN CARVING CONTEST</span><br />\n<span style="background-color:#ff9933\;">AT&nbsp\;</span><br />\n<span style="background-color:#ff9933\;">FOX&#39\;S!!!</span></span></strong></span></div>\n
LOCATION:FOX'S ON THE RIVER PARKER STRIP\, PARKER AZ
UID:e.2234.6673
SEQUENCE:3
DTSTAMP:20260424T130201Z
URL:https://business.parkeraz.org/events/details/fox-s-pumpkin-carving-contest-6673
END:VEVENT

END:VCALENDAR
